BEGIN:VCALENDAR
VERSION:2.0
PRODID:-//Housing Authority of Douglas County - ECPv6.15.20//NONSGML v1.0//EN
CALSCALE:GREGORIAN
METHOD:PUBLISH
X-ORIGINAL-URL:https://hadcor.org
X-WR-CALDESC:Events for Housing Authority of Douglas County
REFRESH-INTERVAL;VALUE=DURATION:PT1H
X-Robots-Tag:noindex
X-PUBLISHED-TTL:PT1H
BEGIN:VTIMEZONE
TZID:America/Los_Angeles
BEGIN:DAYLIGHT
TZOFFSETFROM:-0800
TZOFFSETTO:-0700
TZNAME:PDT
DTSTART:20250309T100000
END:DAYLIGHT
BEGIN:STANDARD
TZOFFSETFROM:-0700
TZOFFSETTO:-0800
TZNAME:PST
DTSTART:20251102T090000
END:STANDARD
BEGIN:DAYLIGHT
TZOFFSETFROM:-0800
TZOFFSETTO:-0700
TZNAME:PDT
DTSTART:20260308T100000
END:DAYLIGHT
BEGIN:STANDARD
TZOFFSETFROM:-0700
TZOFFSETTO:-0800
TZNAME:PST
DTSTART:20261101T090000
END:STANDARD
BEGIN:DAYLIGHT
TZOFFSETFROM:-0800
TZOFFSETTO:-0700
TZNAME:PDT
DTSTART:20270314T100000
END:DAYLIGHT
BEGIN:STANDARD
TZOFFSETFROM:-0700
TZOFFSETTO:-0800
TZNAME:PST
DTSTART:20271107T090000
END:STANDARD
END:VTIMEZONE
BEGIN:VEVENT
DTSTART;VALUE=DATE:20260101
DTEND;VALUE=DATE:20260103
DTSTAMP:20260425T105708
CREATED:20250410T202730Z
LAST-MODIFIED:20250508T230012Z
UID:954-1767225600-1767398399@hadcor.org
SUMMARY:HADCO Office Closed - New Year's Day
DESCRIPTION:The Housing Authority of Douglas County offices will be closed Thursday and Friday for the New Year’s Day holiday.
URL:https://hadcor.org/calendar/hadco-office-closed-new-years-day/
LOCATION:OR
CATEGORIES:Office Closure
END:VEVENT
BEGIN:VEVENT
DTSTART;VALUE=DATE:20260119
DTEND;VALUE=DATE:20260120
DTSTAMP:20260425T105708
CREATED:20250507T222042Z
LAST-MODIFIED:20250507T222042Z
UID:1036-1768780800-1768867199@hadcor.org
SUMMARY:HADCO Office Closed - Martin Luther King Jr. Day
DESCRIPTION:The Housing Authority of Douglas County offices will be closed for the Martin Luther King Jr. Day holiday.
URL:https://hadcor.org/calendar/hadco-office-closed-martin-luther-king-jr-day/
LOCATION:OR
CATEGORIES:Office Closure
END:VEVENT
END:VCALENDAR