BEGIN:VCALENDAR
VERSION:2.0
PRODID:-//Housing Authority of Douglas County - ECPv6.15.20//NONSGML v1.0//EN
CALSCALE:GREGORIAN
METHOD:PUBLISH
X-WR-CALNAME:Housing Authority of Douglas County
X-ORIGINAL-URL:https://hadcor.org
X-WR-CALDESC:Events for Housing Authority of Douglas County
REFRESH-INTERVAL;VALUE=DURATION:PT1H
X-Robots-Tag:noindex
X-PUBLISHED-TTL:PT1H
BEGIN:VTIMEZONE
TZID:America/Los_Angeles
BEGIN:DAYLIGHT
TZOFFSETFROM:-0800
TZOFFSETTO:-0700
TZNAME:PDT
DTSTART:20240310T100000
END:DAYLIGHT
BEGIN:STANDARD
TZOFFSETFROM:-0700
TZOFFSETTO:-0800
TZNAME:PST
DTSTART:20241103T090000
END:STANDARD
BEGIN:DAYLIGHT
TZOFFSETFROM:-0800
TZOFFSETTO:-0700
TZNAME:PDT
DTSTART:20250309T100000
END:DAYLIGHT
BEGIN:STANDARD
TZOFFSETFROM:-0700
TZOFFSETTO:-0800
TZNAME:PST
DTSTART:20251102T090000
END:STANDARD
BEGIN:DAYLIGHT
TZOFFSETFROM:-0800
TZOFFSETTO:-0700
TZNAME:PDT
DTSTART:20260308T100000
END:DAYLIGHT
BEGIN:STANDARD
TZOFFSETFROM:-0700
TZOFFSETTO:-0800
TZNAME:PST
DTSTART:20261101T090000
END:STANDARD
END:VTIMEZONE
BEGIN:VEVENT
DTSTART;VALUE=DATE:20251111
DTEND;VALUE=DATE:20251112
DTSTAMP:20260425T142235
CREATED:20250507T222249Z
LAST-MODIFIED:20250507T222249Z
UID:1038-1762819200-1762905599@hadcor.org
SUMMARY:HADCO Office Closed - Veterans Day
DESCRIPTION:The Housing Authority of Douglas County offices will be closed for the Veterans Day holiday.
URL:https://hadcor.org/calendar/hadco-office-closed-veterans-day/
LOCATION:OR
CATEGORIES:Office Closure
END:VEVENT
BEGIN:VEVENT
DTSTART;VALUE=DATE:20251127
DTEND;VALUE=DATE:20251129
DTSTAMP:20260425T142235
CREATED:20250410T202702Z
LAST-MODIFIED:20250507T221706Z
UID:952-1764201600-1764374399@hadcor.org
SUMMARY:HADCO Office Closed - Thanksgiving
DESCRIPTION:The Housing Authority of Douglas County offices will be closed Thursday and Friday for the Thanksgiving holiday.
URL:https://hadcor.org/calendar/hadco-office-closed-thanksgiving/
LOCATION:OR
CATEGORIES:Office Closure
END:VEVENT
END:VCALENDAR