BEGIN:VCALENDAR
VERSION:2.0
PRODID:-//Housing Authority of Douglas County - ECPv6.15.20//NONSGML v1.0//EN
CALSCALE:GREGORIAN
METHOD:PUBLISH
X-WR-CALNAME:Housing Authority of Douglas County
X-ORIGINAL-URL:https://hadcor.org
X-WR-CALDESC:Events for Housing Authority of Douglas County
REFRESH-INTERVAL;VALUE=DURATION:PT1H
X-Robots-Tag:noindex
X-PUBLISHED-TTL:PT1H
BEGIN:VTIMEZONE
TZID:America/Los_Angeles
BEGIN:DAYLIGHT
TZOFFSETFROM:-0800
TZOFFSETTO:-0700
TZNAME:PDT
DTSTART:20240310T100000
END:DAYLIGHT
BEGIN:STANDARD
TZOFFSETFROM:-0700
TZOFFSETTO:-0800
TZNAME:PST
DTSTART:20241103T090000
END:STANDARD
BEGIN:DAYLIGHT
TZOFFSETFROM:-0800
TZOFFSETTO:-0700
TZNAME:PDT
DTSTART:20250309T100000
END:DAYLIGHT
BEGIN:STANDARD
TZOFFSETFROM:-0700
TZOFFSETTO:-0800
TZNAME:PST
DTSTART:20251102T090000
END:STANDARD
BEGIN:DAYLIGHT
TZOFFSETFROM:-0800
TZOFFSETTO:-0700
TZNAME:PDT
DTSTART:20260308T100000
END:DAYLIGHT
BEGIN:STANDARD
TZOFFSETFROM:-0700
TZOFFSETTO:-0800
TZNAME:PST
DTSTART:20261101T090000
END:STANDARD
END:VTIMEZONE
BEGIN:VEVENT
DTSTART;VALUE=DATE:20250703
DTEND;VALUE=DATE:20250704
DTSTAMP:20260425T210915
CREATED:20250530T211523Z
LAST-MODIFIED:20250530T211523Z
UID:1339-1751500800-1751587199@hadcor.org
SUMMARY:HADCO Office Closed - Staff Training
DESCRIPTION:The Housing Authority of Douglas County offices will be closed on Thursday\, July 3rd for staff training. The offices will reopen for normal business hours after the holiday weekend.
URL:https://hadcor.org/calendar/hadco-office-closed-staff-training/
LOCATION:Housing Authority of Douglas County\, Oregon\, 1000 W Stanton Street\, Roseburg\, OR\, 97471\, United States
CATEGORIES:Office Closure
END:VEVENT
BEGIN:VEVENT
DTSTART;VALUE=DATE:20250704
DTEND;VALUE=DATE:20250705
DTSTAMP:20260425T210915
CREATED:20250410T202621Z
LAST-MODIFIED:20250507T221730Z
UID:950-1751587200-1751673599@hadcor.org
SUMMARY:HADCO Office Closed - Independence Day
DESCRIPTION:The Housing Authority of Douglas County offices will be closed for the Independence Day holiday.
URL:https://hadcor.org/calendar/office-closed-in-observation-of-independence-day/
LOCATION:OR
CATEGORIES:Office Closure
END:VEVENT
END:VCALENDAR